BEGIN:VCALENDAR
VERSION:2.0
PRODID:-//KinoFabrik e.V. - ECPv6.15.17.1//NONSGML v1.0//EN
CALSCALE:GREGORIAN
METHOD:PUBLISH
X-WR-CALNAME:KinoFabrik e.V.
X-ORIGINAL-URL:https://www.kinofabrik-dresden.de
X-WR-CALDESC:Veranstaltungen für KinoFabrik e.V.
REFRESH-INTERVAL;VALUE=DURATION:PT1H
X-Robots-Tag:noindex
X-PUBLISHED-TTL:PT1H
BEGIN:VTIMEZONE
TZID:UTC
BEGIN:STANDARD
TZOFFSETFROM:+0000
TZOFFSETTO:+0000
TZNAME:UTC
DTSTART:20210101T000000
END:STANDARD
END:VTIMEZONE
BEGIN:VEVENT
DTSTART;TZID=UTC:20221121T173000
DTEND;TZID=UTC:20221121T173000
DTSTAMP:20260422T101319
CREATED:20221018T193026Z
LAST-MODIFIED:20221021T183913Z
UID:1098-1669051800-1669051800@www.kinofabrik-dresden.de
SUMMARY:Kin Dsa-Dsa - Schauburg
DESCRIPTION:UdSSR 1986\, 132 min\, OmU\, Regie: Georgi Danelija
URL:https://www.kinofabrik-dresden.de/event/kin-dsa-dsa-schauburg/
LOCATION:Filmtheater Schauburg Dresden\, Königsbrücker Straße 55\, Dresden\, 01099\, Deutschland
ORGANIZER;CN="KinoFabrik e.V.":MAILTO:info@kinofabrik-dresden.de
END:VEVENT
END:VCALENDAR