BEGIN:VCALENDAR
VERSION:2.0
PRODID:-//KinoFabrik e.V. - ECPv6.15.17.1//NONSGML v1.0//EN
CALSCALE:GREGORIAN
METHOD:PUBLISH
X-WR-CALNAME:KinoFabrik e.V.
X-ORIGINAL-URL:https://www.kinofabrik-dresden.de
X-WR-CALDESC:Veranstaltungen für KinoFabrik e.V.
REFRESH-INTERVAL;VALUE=DURATION:PT1H
X-Robots-Tag:noindex
X-PUBLISHED-TTL:PT1H
BEGIN:VTIMEZONE
TZID:UTC
BEGIN:STANDARD
TZOFFSETFROM:+0000
TZOFFSETTO:+0000
TZNAME:UTC
DTSTART:20210101T000000
END:STANDARD
END:VTIMEZONE
BEGIN:VEVENT
DTSTART;TZID=UTC:20221123T200000
DTEND;TZID=UTC:20221123T200000
DTSTAMP:20260425T145022
CREATED:20221018T191616Z
LAST-MODIFIED:20221021T184511Z
UID:1086-1669233600-1669233600@www.kinofabrik-dresden.de
SUMMARY:Kurzfilmprogramm "Sorbische Filmemacher*innen erzählen"
DESCRIPTION:Vorführungen und Gespräche zu aktuellen filmischen Positionen
URL:https://www.kinofabrik-dresden.de/event/kurzfilmprogramm-sorbische-filmemacherinnen-erzaehlen/
LOCATION:Zentralkino Dresden\, Kraftwerk Mitte 16\, Dresden\, Sachsen\, 01067\, Deutschland
ORGANIZER;CN="KinoFabrik e.V.":MAILTO:info@kinofabrik-dresden.de
END:VEVENT
END:VCALENDAR